BEGIN:VCALENDAR
VERSION:2.0
PRODID:-//Humane Colorado - ECPv6.15.17.1//NONSGML v1.0//EN
CALSCALE:GREGORIAN
METHOD:PUBLISH
X-WR-CALNAME:Humane Colorado
X-ORIGINAL-URL:https://humanecolorado.org
X-WR-CALDESC:Events for Humane Colorado
REFRESH-INTERVAL;VALUE=DURATION:PT1H
X-Robots-Tag:noindex
X-PUBLISHED-TTL:PT1H
BEGIN:VTIMEZONE
TZID:America/Denver
BEGIN:DAYLIGHT
TZOFFSETFROM:-0700
TZOFFSETTO:-0600
TZNAME:MDT
DTSTART:20250309T090000
END:DAYLIGHT
BEGIN:STANDARD
TZOFFSETFROM:-0600
TZOFFSETTO:-0700
TZNAME:MST
DTSTART:20251102T080000
END:STANDARD
BEGIN:DAYLIGHT
TZOFFSETFROM:-0700
TZOFFSETTO:-0600
TZNAME:MDT
DTSTART:20260308T090000
END:DAYLIGHT
BEGIN:STANDARD
TZOFFSETFROM:-0600
TZOFFSETTO:-0700
TZNAME:MST
DTSTART:20261101T080000
END:STANDARD
BEGIN:DAYLIGHT
TZOFFSETFROM:-0700
TZOFFSETTO:-0600
TZNAME:MDT
DTSTART:20270314T090000
END:DAYLIGHT
BEGIN:STANDARD
TZOFFSETFROM:-0600
TZOFFSETTO:-0700
TZNAME:MST
DTSTART:20271107T080000
END:STANDARD
END:VTIMEZONE
BEGIN:VEVENT
DTSTART;TZID=America/Denver:20260203T080000
DTEND;TZID=America/Denver:20260203T160000
DTSTAMP:20260422T041519
CREATED:20260116T164000Z
LAST-MODIFIED:20260225T170308Z
UID:82133-1770105600-1770134400@humanecolorado.org
SUMMARY:Vaccine Clinic: Pickens Technical College
DESCRIPTION:Payment is due at the time of service; cash and credit cards are accepted. Donations are greatly appreciated. \nDogs and Cats \n\nRabies: $20\nMicrochips: $25 (includes registration)\nDewormer – FREE for pets under 6 months of age\n\nCats Only \n\nFeline Distemper (FVRCP) $25\n\nDogs Only \n\nDistemper (DA2PP) only $25\nDistemper (DA2PP) + Leptospirosis combo $30\nLeptospirosis only $20\nBordetella $30\n\nPlease verify the date of the appointment you are scheduling. Our clinic appointments fill up fast! \nFind the next available Vaccine Clinic here. \nNOTE: Clicking “Add to Calendar” does not create an appointment for this clinic.
URL:https://humanecolorado.org/event/vaccine-clinic-pickens-technical-college/
LOCATION:Pickens Technical College\, 500 Airport Blvd\, Aurora\, CO\, 80011\, United States
CATEGORIES:Vaccine Clinic
END:VEVENT
BEGIN:VEVENT
DTSTART;TZID=America/Denver:20260207T090000
DTEND;TZID=America/Denver:20260207T160000
DTSTAMP:20260422T041519
CREATED:20260109T173843Z
LAST-MODIFIED:20260109T173843Z
UID:80707-1770454800-1770480000@humanecolorado.org
SUMMARY:Vaccine Clinic: Humane Colorado Leslie A Malone Center Transfer Garage
DESCRIPTION:Outdoor ‘Drive-Thru’ Style Clinic \nPayment is due at the time of service; cash and credit cards are accepted. Donations are greatly appreciated. \nDogs and Cats \n\nRabies: $20\nMicrochips: $25 (includes registration)\nDewormer – FREE for pets under 6 months of age\n\nCats Only \n\nFeline Distemper (FVRCP) $25\n\nDogs Only \n\nDistemper (DA2PP) only $25\nDistemper (DA2PP) + Leptospirosis combo $30\nLeptospirosis only $20\nBordetella $30\n\nPlease verify the date of the appointment you are scheduling. Our clinic appointments fill up fast! \nThis clinic is currently full. Find the next available Vaccine Clinic here. \nNOTE: Clicking “Add to Calendar” does not create an appointment for this clinic.
URL:https://humanecolorado.org/event/vaccine-clinic-humane-colorado-leslie-a-malone-center-transfer-garage-9/
LOCATION:Leslie A. Malone Center\, 2080 S Quebec St\, Denver\, CO\, 80231\, United States
CATEGORIES:Vaccine Clinic
END:VEVENT
BEGIN:VEVENT
DTSTART;TZID=America/Denver:20260218T090000
DTEND;TZID=America/Denver:20260218T160000
DTSTAMP:20260422T041519
CREATED:20260113T180312Z
LAST-MODIFIED:20260113T180312Z
UID:81521-1771405200-1771430400@humanecolorado.org
SUMMARY:Vaccine Clinic: Barnum Recreation Center
DESCRIPTION:Outdoor ‘Drive-Thru’ Style Clinic \nPayment is due at the time of service; cash and credit cards are accepted. Donations are greatly appreciated. \nDogs and Cats \n\nRabies: $20\nMicrochips: $25 (includes registration)\nDewormer – FREE for pets under 6 months of age\n\nCats Only \n\nFeline Distemper (FVRCP) $25\n\nDogs Only \n\nDistemper (DA2PP) only $25\nDistemper (DA2PP) + Leptospirosis combo $30\nLeptospirosis only $20\nBordetella $30\n\nPlease verify the date of the appointment you are scheduling. Our clinic appointments fill up fast! Please note that dates that are full will not be visible. \nFind the next available Vaccine Clinic here. \nNOTE: Clicking “Add to Calendar” does not create an appointment for this clinic.
URL:https://humanecolorado.org/event/vaccine-clinic-barnum-recreation-center-8/
LOCATION:Barnum Recreation Center\, 360 Hooker Street\, Denver\, CO\, 80219\, United States
CATEGORIES:Vaccine Clinic
END:VEVENT
BEGIN:VEVENT
DTSTART;TZID=America/Denver:20260221T080000
DTEND;TZID=America/Denver:20260221T160000
DTSTAMP:20260422T041519
CREATED:20260123T163230Z
LAST-MODIFIED:20260219T215144Z
UID:83444-1771660800-1771689600@humanecolorado.org
SUMMARY:Vaccine Clinic: Humane Colorado Veterinary Hospital @ CSU Spur
DESCRIPTION:Payment is due at the time of service; cash and credit cards are accepted. Donations are greatly appreciated. \nDogs and Cats \n\nRabies: $20\nMicrochips: $25 (includes registration)\nDewormer – FREE for pets under 6 months of age\n\nCats Only \n\nFeline Distemper (FVRCP) $25\n\nDogs Only \n\nDistemper (DA2PP) only $25\nDistemper (DA2PP) + Leptospirosis combo $30\nLeptospirosis only $20\nBordetella $30\n\nPlease verify the date of the appointment you are scheduling. Our clinic appointments fill up fast! Please note that dates that are full will not be visible. \nFind the next available Vaccine Clinic here. \nNOTE: Clicking “Add to Calendar” does not create an appointment for this clinic.
URL:https://humanecolorado.org/event/vaccine-clinic-humane-colorado-veterinary-hospital-csu-spur/
LOCATION:CSU Spur Vida Building\, 4817 National Western Dr\, Denver\, CO\, 80216\, United States
CATEGORIES:Vaccine Clinic
END:VEVENT
BEGIN:VEVENT
DTSTART;TZID=America/Denver:20260225T080000
DTEND;TZID=America/Denver:20260225T160000
DTSTAMP:20260422T041519
CREATED:20260123T163318Z
LAST-MODIFIED:20260219T215207Z
UID:83446-1772006400-1772035200@humanecolorado.org
SUMMARY:Vaccine Clinic: ABC Community Hub
DESCRIPTION:Payment is due at the time of service; cash and credit cards are accepted. Donations are greatly appreciated. \nDogs and Cats \n\nRabies: $20\nMicrochips: $25 (includes registration)\nDewormer – FREE for pets under 6 months of age\n\nCats Only \n\nFeline Distemper (FVRCP) $25\n\nDogs Only \n\nDistemper (DA2PP) only $25\nDistemper (DA2PP) + Leptospirosis combo $30\nLeptospirosis only $20\nBordetella $30\n\nPlease verify the date of the appointment you are scheduling. Our clinic appointments fill up fast! Please note that dates that are full will not be visible. \nFind the next available Vaccine Clinic here. \nNOTE: Clicking “Add to Calendar” does not create an appointment for this clinic.
URL:https://humanecolorado.org/event/vaccine-clinic-abc-community-hub-2/
LOCATION:ABC Community Hub\, 1635 Paris St\, Aurora\, CO\, 80010\, United States
CATEGORIES:Vaccine Clinic
END:VEVENT
BEGIN:VEVENT
DTSTART;TZID=America/Denver:20260228T080000
DTEND;TZID=America/Denver:20260228T160000
DTSTAMP:20260422T041519
CREATED:20260109T173953Z
LAST-MODIFIED:20260219T215218Z
UID:80709-1772265600-1772294400@humanecolorado.org
SUMMARY:Vaccine Clinic: Future Forward at Washington Square
DESCRIPTION:Outdoor ‘Drive-Thru’ Style Clinic \nPayment is due at the time of service; cash and credit cards are accepted. Donations are greatly appreciated. \nDogs and Cats \n\nRabies: $20\nMicrochips: $25 (includes registration)\nDewormer – FREE for pets under 6 months of age\n\nCats Only \n\nFeline Distemper (FVRCP) $25\n\nDogs Only \n\nDistemper (DA2PP) only $25\nDistemper (DA2PP) + Leptospirosis combo $30\nLeptospirosis only $20\nBordetella $30\n\nPlease verify the date of the appointment you are scheduling. Our clinic appointments fill up fast! Please note that dates that are full will not be visible. \nFind the next available Vaccine Clinic here. \nNOTE: Clicking “Add to Calendar” does not create an appointment for this clinic.
URL:https://humanecolorado.org/event/vaccine-clinic-future-forward-at-washington-square-2/
LOCATION:Future Forward at Washington Square\, 12521 Washington Street\, Thornton\, CO\, 80241\, United States
CATEGORIES:Vaccine Clinic
END:VEVENT
END:VCALENDAR