BEGIN:VCALENDAR
VERSION:2.0
PRODID:-//Humane Colorado - ECPv6.15.17.1//NONSGML v1.0//EN
CALSCALE:GREGORIAN
METHOD:PUBLISH
X-WR-CALNAME:Humane Colorado
X-ORIGINAL-URL:https://humanecolorado.org
X-WR-CALDESC:Events for Humane Colorado
REFRESH-INTERVAL;VALUE=DURATION:PT1H
X-Robots-Tag:noindex
X-PUBLISHED-TTL:PT1H
BEGIN:VTIMEZONE
TZID:America/Denver
BEGIN:DAYLIGHT
TZOFFSETFROM:-0700
TZOFFSETTO:-0600
TZNAME:MDT
DTSTART:20250309T090000
END:DAYLIGHT
BEGIN:STANDARD
TZOFFSETFROM:-0600
TZOFFSETTO:-0700
TZNAME:MST
DTSTART:20251102T080000
END:STANDARD
BEGIN:DAYLIGHT
TZOFFSETFROM:-0700
TZOFFSETTO:-0600
TZNAME:MDT
DTSTART:20260308T090000
END:DAYLIGHT
BEGIN:STANDARD
TZOFFSETFROM:-0600
TZOFFSETTO:-0700
TZNAME:MST
DTSTART:20261101T080000
END:STANDARD
BEGIN:DAYLIGHT
TZOFFSETFROM:-0700
TZOFFSETTO:-0600
TZNAME:MDT
DTSTART:20270314T090000
END:DAYLIGHT
BEGIN:STANDARD
TZOFFSETFROM:-0600
TZOFFSETTO:-0700
TZNAME:MST
DTSTART:20271107T080000
END:STANDARD
END:VTIMEZONE
BEGIN:VEVENT
DTSTART;TZID=America/Denver:20260103T090000
DTEND;TZID=America/Denver:20260103T160000
DTSTAMP:20260422T055055
CREATED:20251128T184554Z
LAST-MODIFIED:20251128T184554Z
UID:71290-1767430800-1767456000@humanecolorado.org
SUMMARY:Vaccine Clinic: Humane Colorado Leslie A Malone Center Transfer Garage
DESCRIPTION:Outdoor ‘Drive-Thru’ Style Clinic \nPayment is due at the time of service; cash and credit cards are accepted. Donations are greatly appreciated. \nDogs and Cats \n\nRabies: $20\nMicrochips: $25 (includes registration)\nDewormer – FREE for pets under 6 months of age\n\nCats Only \n\nFeline Distemper (FVRCP) $25\n\nDogs Only \n\nDistemper (DA2PP) only $25\nDistemper (DA2PP) + Leptospirosis combo $30\nLeptospirosis only $20\nBordetella $30\n\nPlease verify the date of the appointment you are scheduling. Our clinic appointments fill up fast! Please note that dates that are full will not be visible. \nFind the next available Vaccine Clinic here. \nNOTE: Clicking “Add to Calendar” does not create an appointment for this clinic.
URL:https://humanecolorado.org/event/vaccine-clinic-humane-colorado-leslie-a-malone-center-transfer-garage-7/
LOCATION:Leslie A. Malone Center\, 2080 S Quebec St\, Denver\, CO\, 80231\, United States
CATEGORIES:Vaccine Clinic
END:VEVENT
BEGIN:VEVENT
DTSTART;TZID=America/Denver:20260107T090000
DTEND;TZID=America/Denver:20260107T160000
DTSTAMP:20260422T055055
CREATED:20260102T170434Z
LAST-MODIFIED:20260102T170434Z
UID:79204-1767776400-1767801600@humanecolorado.org
SUMMARY:Vaccine Clinic: Town Center at Aurora Mall
DESCRIPTION:Outdoor ‘Drive-Thru’ Style Clinic \nPayment is due at the time of service; cash and credit cards are accepted. Donations are greatly appreciated. \nDogs and Cats \n\nRabies: $20\nMicrochips: $25 (includes registration)\nDewormer – FREE for pets under 6 months of age\n\nCats Only \n\nFeline Distemper (FVRCP) $25\n\nDogs Only \n\nDistemper (DA2PP) only $25\nDistemper (DA2PP) + Leptospirosis combo $30\nLeptospirosis only $20\nBordetella $30\n\nPlease verify the date of the appointment you are scheduling. Our clinic appointments fill up fast! Please note that dates that are full will not be visible. \nFind the next available Vaccine Clinic here. \nNOTE: Clicking “Add to Calendar” does not create an appointment for this clinic.
URL:https://humanecolorado.org/event/vaccine-clinic-town-center-at-aurora-mall-9/
LOCATION:Town Center at Aurora Mall\, 14200 E Alameda Ave\, Aurora\, CO\, 80012\, United States
CATEGORIES:Vaccine Clinic
END:VEVENT
BEGIN:VEVENT
DTSTART;TZID=America/Denver:20260117T090000
DTEND;TZID=America/Denver:20260117T160000
DTSTAMP:20260422T055055
CREATED:20251215T153054Z
LAST-MODIFIED:20251215T153106Z
UID:75330-1768640400-1768665600@humanecolorado.org
SUMMARY:Vaccine Clinic: Humane Colorado Leslie A Malone Center Transfer Garage
DESCRIPTION:Outdoor ‘Drive-Thru’ Style Clinic \nPayment is due at the time of service; cash and credit cards are accepted. Donations are greatly appreciated. \nDogs and Cats \n\nRabies: $20\nMicrochips: $25 (includes registration)\nDewormer – FREE for pets under 6 months of age\n\nCats Only \n\nFeline Distemper (FVRCP) $25\n\nDogs Only \n\nDistemper (DA2PP) only $25\nDistemper (DA2PP) + Leptospirosis combo $30\nLeptospirosis only $20\nBordetella $30\n\nPlease verify the date of the appointment you are scheduling. Our clinic appointments fill up fast! \nThis clinic is currently full. Find the next available Vaccine Clinic here. \nNOTE: Clicking “Add to Calendar” does not create an appointment for this clinic.
URL:https://humanecolorado.org/event/vaccine-clinic-humane-colorado-leslie-a-malone-center-transfer-garage-8/
LOCATION:Leslie A. Malone Center\, 2080 S Quebec St\, Denver\, CO\, 80231\, United States
CATEGORIES:Vaccine Clinic
END:VEVENT
BEGIN:VEVENT
DTSTART;TZID=America/Denver:20260121T080000
DTEND;TZID=America/Denver:20260121T160000
DTSTAMP:20260422T055055
CREATED:20251216T153623Z
LAST-MODIFIED:20260102T170114Z
UID:75570-1768982400-1769011200@humanecolorado.org
SUMMARY:Vaccine Clinic: Castle Rock Buddy Center
DESCRIPTION:Payment is due at the time of service; cash and credit cards are accepted. Donations are greatly appreciated. \nDogs and Cats \n\nRabies: $20\nMicrochips: $25 (includes registration)\nDewormer – FREE for pets under 6 months of age\n\nCats Only \n\nFeline Distemper (FVRCP) $25\n\nDogs Only \n\nDistemper (DA2PP) only $25\nDistemper (DA2PP) + Leptospirosis combo $30\nLeptospirosis only $20\nBordetella $30\n\nPlease verify the date of the appointment you are scheduling. Our clinic appointments fill up fast! Please note that dates that are full will not be visible. \nFind the next available Vaccine Clinic here. \nNOTE: Clicking “Add to Calendar” does not create an appointment for this clinic.
URL:https://humanecolorado.org/event/vaccine-clinic-buddy-center-2/
LOCATION:Buddy Center\, 4556 Castleton Ct\, Castle Rock\, CO\, 80109\, United States
CATEGORIES:Vaccine Clinic
END:VEVENT
BEGIN:VEVENT
DTSTART;TZID=America/Denver:20260128T080000
DTEND;TZID=America/Denver:20260128T160000
DTSTAMP:20260422T055055
CREATED:20251218T180405Z
LAST-MODIFIED:20251218T180405Z
UID:76106-1769587200-1769616000@humanecolorado.org
SUMMARY:Vaccine Clinic: ABC Community Hub
DESCRIPTION:Payment is due at the time of service; cash and credit cards are accepted. Donations are greatly appreciated. \nDogs and Cats \n\nRabies: $20\nMicrochips: $25 (includes registration)\nDewormer – FREE for pets under 6 months of age\n\nCats Only \n\nFeline Distemper (FVRCP) $25\n\nDogs Only \n\nDistemper (DA2PP) only $25\nDistemper (DA2PP) + Leptospirosis combo $30\nLeptospirosis only $20\nBordetella $30\n\nPlease verify the date of the appointment you are scheduling. Our clinic appointments fill up fast! Please note that dates that are full will not be visible. \nFind the next available Vaccine Clinic here. \nNOTE: Clicking “Add to Calendar” does not create an appointment for this clinic.
URL:https://humanecolorado.org/event/vaccine-clinic-abc-community-hub/
LOCATION:ABC Community Hub\, 1635 Paris St\, Aurora\, CO\, 80010\, United States
CATEGORIES:Vaccine Clinic
END:VEVENT
BEGIN:VEVENT
DTSTART;TZID=America/Denver:20260131T090000
DTEND;TZID=America/Denver:20260131T160000
DTSTAMP:20260422T055055
CREATED:20251218T180124Z
LAST-MODIFIED:20251218T180124Z
UID:76104-1769850000-1769875200@humanecolorado.org
SUMMARY:Vaccine Clinic: Barnum Recreation Center
DESCRIPTION:Outdoor ‘Drive-Thru’ Style Clinic \nPayment is due at the time of service; cash and credit cards are accepted. Donations are greatly appreciated. \nDogs and Cats \n\nRabies: $20\nMicrochips: $25 (includes registration)\nDewormer – FREE for pets under 6 months of age\n\nCats Only \n\nFeline Distemper (FVRCP) $25\n\nDogs Only \n\nDistemper (DA2PP) only $25\nDistemper (DA2PP) + Leptospirosis combo $30\nLeptospirosis only $20\nBordetella $30\n\nPlease verify the date of the appointment you are scheduling. Our clinic appointments fill up fast! Please note that dates that are full will not be visible. \nFind the next available Vaccine Clinic here. \nNOTE: Clicking “Add to Calendar” does not create an appointment for this clinic.
URL:https://humanecolorado.org/event/vaccine-clinic-barnum-recreation-center-7/
LOCATION:Barnum Recreation Center\, 360 Hooker Street\, Denver\, CO\, 80219\, United States
CATEGORIES:Vaccine Clinic
END:VEVENT
END:VCALENDAR