BEGIN:VCALENDAR
VERSION:2.0
PRODID:-//Humane Colorado - ECPv6.15.17.1//NONSGML v1.0//EN
CALSCALE:GREGORIAN
METHOD:PUBLISH
X-ORIGINAL-URL:https://humanecolorado.org
X-WR-CALDESC:Events for Humane Colorado
REFRESH-INTERVAL;VALUE=DURATION:PT1H
X-Robots-Tag:noindex
X-PUBLISHED-TTL:PT1H
BEGIN:VTIMEZONE
TZID:America/Denver
BEGIN:DAYLIGHT
TZOFFSETFROM:-0700
TZOFFSETTO:-0600
TZNAME:MDT
DTSTART:20240310T090000
END:DAYLIGHT
BEGIN:STANDARD
TZOFFSETFROM:-0600
TZOFFSETTO:-0700
TZNAME:MST
DTSTART:20241103T080000
END:STANDARD
BEGIN:DAYLIGHT
TZOFFSETFROM:-0700
TZOFFSETTO:-0600
TZNAME:MDT
DTSTART:20250309T090000
END:DAYLIGHT
BEGIN:STANDARD
TZOFFSETFROM:-0600
TZOFFSETTO:-0700
TZNAME:MST
DTSTART:20251102T080000
END:STANDARD
BEGIN:DAYLIGHT
TZOFFSETFROM:-0700
TZOFFSETTO:-0600
TZNAME:MDT
DTSTART:20260308T090000
END:DAYLIGHT
BEGIN:STANDARD
TZOFFSETFROM:-0600
TZOFFSETTO:-0700
TZNAME:MST
DTSTART:20261101T080000
END:STANDARD
END:VTIMEZONE
BEGIN:VEVENT
DTSTART;TZID=America/Denver:20251203T090000
DTEND;TZID=America/Denver:20251203T160000
DTSTAMP:20260422T071639
CREATED:20251113T153050Z
LAST-MODIFIED:20251202T201401Z
UID:67548-1764752400-1764777600@humanecolorado.org
SUMMARY:Vaccine Clinic: Humane Colorado Veterinary Hospital at CSU Spur
DESCRIPTION:Payment is due at the time of service; cash and credit cards are accepted. Donations are greatly appreciated. \nDogs and Cats \n\nRabies: $20\nMicrochips: $25 (includes registration)\nDewormer – FREE for pets under 6 months of age\n\nCats Only \n\nFeline Distemper (FVRCP) $25\n\nDogs Only \n\nDistemper (DA2PP) only $25\nDistemper (DA2PP) + Leptospirosis combo $30\nLeptospirosis only $20\nBordetella $30\n\nPlease verify the date of the appointment you are scheduling. Our clinic appointments fill up fast! \nFind the next available Vaccine Clinic here. \nNOTE: Clicking “Add to Calendar” does not create an appointment for this clinic.
URL:https://humanecolorado.org/event/vaccine-clinic-town-center-at-aurora-mall-8/
LOCATION:CSU Spur Vida Building\, 4817 National Western Dr\, Denver\, CO\, 80216\, United States
CATEGORIES:Vaccine Clinic
END:VEVENT
BEGIN:VEVENT
DTSTART;TZID=America/Denver:20251206T080000
DTEND;TZID=America/Denver:20251206T160000
DTSTAMP:20260422T071639
CREATED:20251113T152948Z
LAST-MODIFIED:20251113T152948Z
UID:67545-1765008000-1765036800@humanecolorado.org
SUMMARY:Vaccine Clinic: Future Forward Washington Square Campus
DESCRIPTION:Payment is due at the time of service; cash and credit cards are accepted. Donations are greatly appreciated. \nDogs and Cats \n\nRabies: $20\nMicrochips: $25 (includes registration)\nDewormer – FREE for pets under 6 months of age\n\nCats Only \n\nFeline Distemper (FVRCP) $25\n\nDogs Only \n\nDistemper (DA2PP) only $25\nDistemper (DA2PP) + Leptospirosis combo $30\nLeptospirosis only $20\nBordetella $30\n\nPlease verify the date of the appointment you are scheduling. Our clinic appointments fill up fast! \nFind the next available Vaccine Clinic here. \nNOTE: Clicking “Add to Calendar” does not create an appointment for this clinic.
URL:https://humanecolorado.org/event/vaccine-clinic-future-forward-washington-square-campus/
LOCATION:Future Forward Washington Square Campus\, 12521 Washington St.\, Thornton\, CO\, 80241\, United States
CATEGORIES:Vaccine Clinic
END:VEVENT
BEGIN:VEVENT
DTSTART;TZID=America/Denver:20251210T080000
DTEND;TZID=America/Denver:20251210T160000
DTSTAMP:20260422T071639
CREATED:20251202T200709Z
LAST-MODIFIED:20251202T200709Z
UID:72316-1765353600-1765382400@humanecolorado.org
SUMMARY:Vaccine Clinic: Humane Colorado Veterinary Hospital at CSU Spur
DESCRIPTION:Payment is due at the time of service; cash and credit cards are accepted. Donations are greatly appreciated. \nDogs and Cats \n\nRabies: $20\nMicrochips: $25 (includes registration)\nDewormer – FREE for pets under 6 months of age\n\nCats Only \n\nFeline Distemper (FVRCP) $25\n\nDogs Only \n\nDistemper (DA2PP) only $25\nDistemper (DA2PP) + Leptospirosis combo $30\nLeptospirosis only $20\nBordetella $30\n\nPlease verify the date of the appointment you are scheduling. Our clinic appointments fill up fast! \nFind the next available Vaccine Clinic here. \nNOTE: Clicking “Add to Calendar” does not create an appointment for this clinic.
URL:https://humanecolorado.org/event/vaccine-clinic-humane-colorado-veterinary-hospital-at-csu-spur-10/
LOCATION:CSU Spur Vida Building\, 4817 National Western Dr\, Denver\, CO\, 80216\, United States
CATEGORIES:Vaccine Clinic
END:VEVENT
BEGIN:VEVENT
DTSTART;TZID=America/Denver:20251212T080000
DTEND;TZID=America/Denver:20251212T160000
DTSTAMP:20260422T071639
CREATED:20251212T203233Z
LAST-MODIFIED:20260102T170049Z
UID:74553-1765526400-1765555200@humanecolorado.org
SUMMARY:Vaccine Clinic: Castle Rock Buddy Center
DESCRIPTION:Payment is due at the time of service; cash and credit cards are accepted. Donations are greatly appreciated. \nDogs and Cats \n\nRabies: $20\nMicrochips: $25 (includes registration)\nDewormer – FREE for pets under 6 months of age\n\nCats Only \n\nFeline Distemper (FVRCP) $25\n\nDogs Only \n\nDistemper (DA2PP) only $25\nDistemper (DA2PP) + Leptospirosis combo $30\nLeptospirosis only $20\nBordetella $30\n\nPlease verify the date of the appointment you are scheduling. Our clinic appointments fill up fast! \nFind the next available Vaccine Clinic here. \nNOTE: Clicking “Add to Calendar” does not create an appointment for this clinic.
URL:https://humanecolorado.org/event/vaccine-clinic-buddy-center/
LOCATION:Buddy Center\, 4556 Castleton Ct\, Castle Rock\, CO\, 80109\, United States
CATEGORIES:Vaccine Clinic
END:VEVENT
BEGIN:VEVENT
DTSTART;TZID=America/Denver:20251213T090000
DTEND;TZID=America/Denver:20251213T160000
DTSTAMP:20260422T071639
CREATED:20251111T151600Z
LAST-MODIFIED:20251208T153548Z
UID:67021-1765616400-1765641600@humanecolorado.org
SUMMARY:Vaccine Clinic: Humane Colorado Leslie A Malone Center Transfer Garage
DESCRIPTION:Outdoor ‘Drive-Thru’ Style Clinic \nPayment is due at the time of service; cash and credit cards are accepted. Donations are greatly appreciated. \nDogs and Cats \n\nRabies: $20\nMicrochips: $25 (includes registration)\nDewormer – FREE for pets under 6 months of age\n\nCats Only \n\nFeline Distemper (FVRCP) $25\n\nDogs Only \n\nDistemper (DA2PP) only $25\nDistemper (DA2PP) + Leptospirosis combo $30\nLeptospirosis only $20\nBordetella $30\n\nPlease verify the date of the appointment you are scheduling. Our clinic appointments fill up fast! \nThis clinic is currently full. Find the next available Vaccine Clinic here. \nNOTE: Clicking “Add to Calendar” does not create an appointment for this clinic.
URL:https://humanecolorado.org/event/vaccine-clinic-humane-colorado-leslie-a-malone-center-transfer-garage-6/
LOCATION:Leslie A. Malone Center\, 2080 S Quebec St\, Denver\, CO\, 80231\, United States
CATEGORIES:Vaccine Clinic
END:VEVENT
BEGIN:VEVENT
DTSTART;TZID=America/Denver:20251217T090000
DTEND;TZID=America/Denver:20251217T160000
DTSTAMP:20260422T071639
CREATED:20251128T184426Z
LAST-MODIFIED:20251128T184426Z
UID:71288-1765962000-1765987200@humanecolorado.org
SUMMARY:Vaccine Clinic: La Alma Recreation Center
DESCRIPTION:Outdoor ‘Drive-Thru’ Style Clinic \nPayment is due at the time of service; cash and credit cards are accepted. Donations are greatly appreciated. \nDogs and Cats \n\nRabies: $20\nMicrochips: $25 (includes registration)\nDewormer – FREE for pets under 6 months of age\n\nCats Only \n\nFeline Distemper (FVRCP) $25\n\nDogs Only \n\nDistemper (DA2PP) only $25\nDistemper (DA2PP) + Leptospirosis combo $30\nLeptospirosis only $20\nBordetella $30\n\nPlease verify the date of the appointment you are scheduling. Our clinic appointments fill up fast! Please note that dates that are full will not be visible. \nFind the next available Vaccine Clinic here. \nNOTE: Clicking “Add to Calendar” does not create an appointment for this clinic.
URL:https://humanecolorado.org/event/vaccine-clinic-la-alma-recreation-center-5/
LOCATION:La Alma Recreation Center\, 1325 W 11th Avenue\, Denver\, Colorado\, 80204
CATEGORIES:Vaccine Clinic
END:VEVENT
BEGIN:VEVENT
DTSTART;TZID=America/Denver:20251227T090000
DTEND;TZID=America/Denver:20251227T160000
DTSTAMP:20260422T071639
CREATED:20251128T184337Z
LAST-MODIFIED:20251128T184337Z
UID:71286-1766826000-1766851200@humanecolorado.org
SUMMARY:Vaccine Clinic: Barnum Recreation Center
DESCRIPTION:Outdoor ‘Drive-Thru’ Style Clinic \nPayment is due at the time of service; cash and credit cards are accepted. Donations are greatly appreciated. \nDogs and Cats \n\nRabies: $20\nMicrochips: $25 (includes registration)\nDewormer – FREE for pets under 6 months of age\n\nCats Only \n\nFeline Distemper (FVRCP) $25\n\nDogs Only \n\nDistemper (DA2PP) only $25\nDistemper (DA2PP) + Leptospirosis combo $30\nLeptospirosis only $20\nBordetella $30\n\nPlease verify the date of the appointment you are scheduling. Our clinic appointments fill up fast! Please note that dates that are full will not be visible. \nFind the next available Vaccine Clinic here. \nNOTE: Clicking “Add to Calendar” does not create an appointment for this clinic.
URL:https://humanecolorado.org/event/vaccine-clinic-barnum-recreation-center-6/
LOCATION:Barnum Recreation Center\, 360 Hooker Street\, Denver\, CO\, 80219\, United States
CATEGORIES:Vaccine Clinic
END:VEVENT
END:VCALENDAR