BEGIN:VCALENDAR
VERSION:2.0
PRODID:-//Humane Colorado - ECPv6.15.17.1//NONSGML v1.0//EN
CALSCALE:GREGORIAN
METHOD:PUBLISH
X-WR-CALNAME:Humane Colorado
X-ORIGINAL-URL:https://humanecolorado.org
X-WR-CALDESC:Events for Humane Colorado
REFRESH-INTERVAL;VALUE=DURATION:PT1H
X-Robots-Tag:noindex
X-PUBLISHED-TTL:PT1H
BEGIN:VTIMEZONE
TZID:America/Denver
BEGIN:DAYLIGHT
TZOFFSETFROM:-0700
TZOFFSETTO:-0600
TZNAME:MDT
DTSTART:20240310T090000
END:DAYLIGHT
BEGIN:STANDARD
TZOFFSETFROM:-0600
TZOFFSETTO:-0700
TZNAME:MST
DTSTART:20241103T080000
END:STANDARD
BEGIN:DAYLIGHT
TZOFFSETFROM:-0700
TZOFFSETTO:-0600
TZNAME:MDT
DTSTART:20250309T090000
END:DAYLIGHT
BEGIN:STANDARD
TZOFFSETFROM:-0600
TZOFFSETTO:-0700
TZNAME:MST
DTSTART:20251102T080000
END:STANDARD
BEGIN:DAYLIGHT
TZOFFSETFROM:-0700
TZOFFSETTO:-0600
TZNAME:MDT
DTSTART:20260308T090000
END:DAYLIGHT
BEGIN:STANDARD
TZOFFSETFROM:-0600
TZOFFSETTO:-0700
TZNAME:MST
DTSTART:20261101T080000
END:STANDARD
END:VTIMEZONE
BEGIN:VEVENT
DTSTART;TZID=America/Denver:20251101T080000
DTEND;TZID=America/Denver:20251101T160000
DTSTAMP:20260422T085612
CREATED:20251001T143711Z
LAST-MODIFIED:20251021T155117Z
UID:56610-1761984000-1762012800@humanecolorado.org
SUMMARY:Vaccine Clinic: Humane Colorado Leslie A Malone Center Transfer Garage
DESCRIPTION:Outdoor ‘Drive-Thru’ Style Clinic \nPayment is due at the time of service; cash and credit cards are accepted. Donations are greatly appreciated. \nDogs and Cats \n\nRabies: $20\nMicrochips: $25 (includes registration)\nDewormer – FREE for pets under 6 months of age\n\nCats Only \n\nFeline Distemper (FVRCP) $25\n\nDogs Only \n\nDistemper (DA2PP) only $25\nDistemper (DA2PP) + Leptospirosis combo $30\nLeptospirosis only $20\nBordetella $30\n\nPlease verify the date of the appointment you are scheduling. Our clinic appointments fill up fast! Please note that dates that are full will not be visible. \nFind the next available Vaccine Clinic here. \nNOTE: Clicking “Add to Calendar” does not create an appointment for this clinic.
URL:https://humanecolorado.org/event/vaccine-clinic-humane-colorado-leslie-a-malone-center-transfer-garage-5/
LOCATION:Leslie A. Malone Center\, 2080 S Quebec St\, Denver\, CO\, 80231\, United States
CATEGORIES:Vaccine Clinic
END:VEVENT
BEGIN:VEVENT
DTSTART;TZID=America/Denver:20251108T080000
DTEND;TZID=America/Denver:20251108T160000
DTSTAMP:20260422T085612
CREATED:20251021T155318Z
LAST-MODIFIED:20251103T150127Z
UID:61466-1762588800-1762617600@humanecolorado.org
SUMMARY:Vaccine Clinic: Town Center at Aurora Mall
DESCRIPTION:Outdoor ‘Drive-Thru’ Style Clinic \nPayment is due at the time of service; cash and credit cards are accepted. Donations are greatly appreciated. \nDogs and Cats \n\nRabies: $20\nMicrochips: $25 (includes registration)\nDewormer – FREE for pets under 6 months of age\n\nCats Only \n\nFeline Distemper (FVRCP) $25\n\nDogs Only \n\nDistemper (DA2PP) only $25\nDistemper (DA2PP) + Leptospirosis combo $30\nLeptospirosis only $20\nBordetella $30\n\nPlease verify the date of the appointment you are scheduling. Our clinic appointments fill up fast! \nFind the next available Vaccine Clinic here. \nNOTE: Clicking “Add to Calendar” does not create an appointment for this clinic.
URL:https://humanecolorado.org/event/vaccine-clinic-town-center-at-aurora-mall-7/
LOCATION:Town Center at Aurora Mall\, 14200 E Alameda Ave\, Aurora\, CO\, 80012\, United States
CATEGORIES:Vaccine Clinic
END:VEVENT
BEGIN:VEVENT
DTSTART;TZID=America/Denver:20251115T080000
DTEND;TZID=America/Denver:20251115T160000
DTSTAMP:20260422T085612
CREATED:20251009T152723Z
LAST-MODIFIED:20251103T150113Z
UID:58469-1763193600-1763222400@humanecolorado.org
SUMMARY:Vaccine Clinic: La Alma Recreation Center
DESCRIPTION:Outdoor ‘Drive-Thru’ Style Clinic \nPayment is due at the time of service; cash and credit cards are accepted. Donations are greatly appreciated. \nDogs and Cats \n\nRabies: $20\nMicrochips: $25 (includes registration)\nDewormer – FREE for pets under 6 months of age\n\nCats Only \n\nFeline Distemper (FVRCP) $25\n\nDogs Only \n\nDistemper (DA2PP) only $25\nDistemper (DA2PP) + Leptospirosis combo $30\nLeptospirosis only $20\nBordetella $30\n\nPlease verify the date of the appointment you are scheduling. Our clinic appointments fill up fast! \nFind the next available Vaccine Clinic here. \nNOTE: Clicking “Add to Calendar” does not create an appointment for this clinic.
URL:https://humanecolorado.org/event/vaccine-clinic-la-alma-recreation-center-4/
LOCATION:La Alma Recreation Center\, 1325 W 11th Avenue\, Denver\, Colorado\, 80204
CATEGORIES:Vaccine Clinic
END:VEVENT
BEGIN:VEVENT
DTSTART;TZID=America/Denver:20251119T080000
DTEND;TZID=America/Denver:20251119T160000
DTSTAMP:20260422T085612
CREATED:20251006T213442Z
LAST-MODIFIED:20251103T150054Z
UID:57943-1763539200-1763568000@humanecolorado.org
SUMMARY:Vaccine Clinic: The Birdseed Collective
DESCRIPTION:Payment is due at the time of service; cash and credit cards are accepted. Donations are greatly appreciated. \nDogs and Cats \n\nRabies: $20\nMicrochips: $25 (includes registration)\nDewormer – FREE for pets under 6 months of age\n\nCats Only \n\nFeline Distemper (FVRCP) $25\n\nDogs Only \n\nDistemper (DA2PP) only $25\nDistemper (DA2PP) + Leptospirosis combo $30\nLeptospirosis only $20\nBordetella $30\n\nPlease verify the date of the appointment you are scheduling. Our clinic appointments fill up fast! \nFind the next available Vaccine Clinic here. \nNOTE: Clicking “Add to Calendar” does not create an appointment for this clinic.
URL:https://humanecolorado.org/event/vaccine-clinic-the-birdseed-collective-3/
LOCATION:The Birdseed Collective\, 4496 Grant Street\, Denver\, CO\, 80216\, United States
CATEGORIES:Vaccine Clinic
END:VEVENT
BEGIN:VEVENT
DTSTART;TZID=America/Denver:20251122T080000
DTEND;TZID=America/Denver:20251122T160000
DTSTAMP:20260422T085612
CREATED:20251027T142916Z
LAST-MODIFIED:20251103T150159Z
UID:62931-1763798400-1763827200@humanecolorado.org
SUMMARY:Vaccine Clinic: Barnum Recreation Center
DESCRIPTION:Outdoor ‘Drive-Thru’ Style Clinic \nPayment is due at the time of service; cash and credit cards are accepted. Donations are greatly appreciated. \nDogs and Cats \n\nRabies: $20\nMicrochips: $25 (includes registration)\nDewormer – FREE for pets under 6 months of age\n\nCats Only \n\nFeline Distemper (FVRCP) $25\n\nDogs Only \n\nDistemper (DA2PP) only $25\nDistemper (DA2PP) + Leptospirosis combo $30\nLeptospirosis only $20\nBordetella $30\n\nPlease verify the date of the appointment you are scheduling. Our clinic appointments fill up fast! \nFind the next available Vaccine Clinic here. \nNOTE: Clicking “Add to Calendar” does not create an appointment for this clinic.
URL:https://humanecolorado.org/event/vaccine-clinic-barnum-recreation-center-5/
LOCATION:Barnum Recreation Center\, 360 Hooker Street\, Denver\, CO\, 80219\, United States
CATEGORIES:Vaccine Clinic
END:VEVENT
BEGIN:VEVENT
DTSTART;TZID=America/Denver:20251129T080000
DTEND;TZID=America/Denver:20251129T160000
DTSTAMP:20260422T085612
CREATED:20251021T155506Z
LAST-MODIFIED:20251103T150143Z
UID:61471-1764403200-1764432000@humanecolorado.org
SUMMARY:Vaccine Clinic: Humane Colorado Veterinary Hospital at CSU Spur
DESCRIPTION:Payment is due at the time of service; cash and credit cards are accepted. Donations are greatly appreciated. \nDogs and Cats \n\nRabies: $20\nMicrochips: $25 (includes registration)\nDewormer – FREE for pets under 6 months of age\n\nCats Only \n\nFeline Distemper (FVRCP) $25\n\nDogs Only \n\nDistemper (DA2PP) only $25\nDistemper (DA2PP) + Leptospirosis combo $30\nLeptospirosis only $20\nBordetella $30\n\nPlease verify the date of the appointment you are scheduling. Our clinic appointments fill up fast! \nFind the next available Vaccine Clinic here. \nNOTE: Clicking “Add to Calendar” does not create an appointment for this clinic.
URL:https://humanecolorado.org/event/vaccine-clinic-humane-colorado-veterinary-hospital-at-csu-spur-9/
LOCATION:CSU Spur Vida Building\, 4817 National Western Dr\, Denver\, CO\, 80216\, United States
CATEGORIES:Vaccine Clinic
END:VEVENT
END:VCALENDAR