BEGIN:VCALENDAR
VERSION:2.0
PRODID:-//Humane Colorado - ECPv6.15.17.1//NONSGML v1.0//EN
CALSCALE:GREGORIAN
METHOD:PUBLISH
X-WR-CALNAME:Humane Colorado
X-ORIGINAL-URL:https://humanecolorado.org
X-WR-CALDESC:Events for Humane Colorado
REFRESH-INTERVAL;VALUE=DURATION:PT1H
X-Robots-Tag:noindex
X-PUBLISHED-TTL:PT1H
BEGIN:VTIMEZONE
TZID:America/Denver
BEGIN:DAYLIGHT
TZOFFSETFROM:-0700
TZOFFSETTO:-0600
TZNAME:MDT
DTSTART:20240310T090000
END:DAYLIGHT
BEGIN:STANDARD
TZOFFSETFROM:-0600
TZOFFSETTO:-0700
TZNAME:MST
DTSTART:20241103T080000
END:STANDARD
BEGIN:DAYLIGHT
TZOFFSETFROM:-0700
TZOFFSETTO:-0600
TZNAME:MDT
DTSTART:20250309T090000
END:DAYLIGHT
BEGIN:STANDARD
TZOFFSETFROM:-0600
TZOFFSETTO:-0700
TZNAME:MST
DTSTART:20251102T080000
END:STANDARD
BEGIN:DAYLIGHT
TZOFFSETFROM:-0700
TZOFFSETTO:-0600
TZNAME:MDT
DTSTART:20260308T090000
END:DAYLIGHT
BEGIN:STANDARD
TZOFFSETFROM:-0600
TZOFFSETTO:-0700
TZNAME:MST
DTSTART:20261101T080000
END:STANDARD
END:VTIMEZONE
BEGIN:VEVENT
DTSTART;TZID=America/Denver:20250906T080000
DTEND;TZID=America/Denver:20250906T160000
DTSTAMP:20260422T113220
CREATED:20250808T152136Z
LAST-MODIFIED:20250808T152136Z
UID:44821-1757145600-1757174400@humanecolorado.org
SUMMARY:Vaccine Clinic: Humane Colorado Leslie A Malone Center Transfer Garage
DESCRIPTION:Outdoor ‘Drive-Thru’ Style Clinic \nPayment is due at the time of service; cash and credit cards are accepted. Donations are greatly appreciated. \nDogs and Cats (includes registration) \n\nRabies: $20\nMicrochips: $25\n\nCats Only \n\nFeline Distemper (FVRCP) $25\n\nDogs Only \n\nDistemper (DA2PP) only $25\nDistemper (DA2PP) + Leptospirosis combo $30\nLeptospirosis only $20\nBordetella $30\n\nRegister for next available Vaccine Clinic here. \nPlease verify the date of the appointment you are scheduling. Dates that are full will not be visible.
URL:https://humanecolorado.org/event/vaccine-clinic-humane-colorado-leslie-a-malone-center-transfer-garage-3/
LOCATION:Leslie A. Malone Center\, 2080 S Quebec St\, Denver\, CO\, 80231\, United States
CATEGORIES:Vaccine Clinic
END:VEVENT
BEGIN:VEVENT
DTSTART;TZID=America/Denver:20250910T080000
DTEND;TZID=America/Denver:20250910T160000
DTSTAMP:20260422T113220
CREATED:20250808T152245Z
LAST-MODIFIED:20250808T152245Z
UID:44823-1757491200-1757520000@humanecolorado.org
SUMMARY:Vaccine Clinic: Community College of Denver (Lowry) - Health & Science Building
DESCRIPTION:Payment is due at the time of service; cash and credit cards are accepted. Donations are greatly appreciated. \nDogs and Cats (includes registration) \n\nRabies: $20\nMicrochips: $25\n\nCats Only \n\nFeline Distemper (FVRCP) $25\n\nDogs Only \n\nDistemper (DA2PP) only $25\nDistemper (DA2PP) + Leptospirosis combo $30\nLeptospirosis only $20\nBordetella $30\n\nRegister for next available Vaccine Clinic here. \nPlease verify the date of the appointment you are scheduling. Dates that are full will not be visible.
URL:https://humanecolorado.org/event/vaccine-clinic-community-college-of-denver-lowry-health-science-building/
LOCATION:Community College of Denver (Lowry) – Health & Science Building\, 1070 Alton Way\, Denver\, CO\, 80230\, United States
CATEGORIES:Vaccine Clinic
END:VEVENT
BEGIN:VEVENT
DTSTART;TZID=America/Denver:20250913T080000
DTEND;TZID=America/Denver:20250913T160000
DTSTAMP:20260422T113220
CREATED:20250808T152517Z
LAST-MODIFIED:20250808T152517Z
UID:44831-1757750400-1757779200@humanecolorado.org
SUMMARY:Vaccine Clinic: Future Forward at Washington Square
DESCRIPTION:Payment is due at the time of service; cash and credit cards are accepted. Donations are greatly appreciated. \nDogs and Cats (includes registration) \n\nRabies: $20\nMicrochips: $25\n\nCats Only \n\nFeline Distemper (FVRCP) $25\n\nDogs Only \n\nDistemper (DA2PP) only $25\nDistemper (DA2PP) + Leptospirosis combo $30\nLeptospirosis only $20\nBordetella $30\n\nRegister for next available Vaccine Clinic here. \nPlease verify the date of the appointment you are scheduling. Dates that are full will not be visible.
URL:https://humanecolorado.org/event/vaccine-clinic-future-forward-at-washington-square/
LOCATION:Future Forward at Washington Square\, 12521 Washington Street\, Thornton\, CO\, 80241\, United States
CATEGORIES:Vaccine Clinic
END:VEVENT
BEGIN:VEVENT
DTSTART;TZID=America/Denver:20250920T080000
DTEND;TZID=America/Denver:20250920T160000
DTSTAMP:20260422T113220
CREATED:20250814T162116Z
LAST-MODIFIED:20250814T162116Z
UID:46219-1758355200-1758384000@humanecolorado.org
SUMMARY:Vaccine Clinic: Humane Colorado Veterinary Hospital at CSU Spur
DESCRIPTION:Payment is due at the time of service; cash and credit cards are accepted. Donations are greatly appreciated. \nDogs and Cats (includes registration) \n\nRabies: $20\nMicrochips: $25\n\nCats Only \n\nFeline Distemper (FVRCP) $25\n\nDogs Only \n\nDistemper (DA2PP) only $25\nDistemper (DA2PP) + Leptospirosis combo $30\nLeptospirosis only $20\nBordetella $30\n\nRegister for next available Vaccine Clinic here. \nPlease verify the date of the appointment you are scheduling. Dates that are full will not be visible.
URL:https://humanecolorado.org/event/vaccine-clinic-humane-colorado-veterinary-hospital-at-csu-spur-7/
LOCATION:CSU Spur Vida Building\, 4817 National Western Dr\, Denver\, CO\, 80216\, United States
CATEGORIES:Vaccine Clinic
END:VEVENT
BEGIN:VEVENT
DTSTART;TZID=America/Denver:20250924T080000
DTEND;TZID=America/Denver:20250924T160000
DTSTAMP:20260422T113220
CREATED:20250826T141226Z
LAST-MODIFIED:20250826T141226Z
UID:48519-1758700800-1758729600@humanecolorado.org
SUMMARY:Vaccine Clinic: Barnum Recreation Center
DESCRIPTION:Outdoor ‘Drive-Thru’ Style Clinic \nPayment is due at the time of service; cash and credit cards are accepted. Donations are greatly appreciated. \nDogs and Cats (includes registration) \n\nRabies: $20\nMicrochips: $25\n\nCats Only \n\nFeline Distemper (FVRCP) $25\n\nDogs Only \n\nDistemper (DA2PP) only $25\nDistemper (DA2PP) + Leptospirosis combo $30\nLeptospirosis only $20\nBordetella $30\n\nRegister for next available Vaccine Clinic here. \nPlease verify the date of the appointment you are scheduling. Dates that are full will not be visible.
URL:https://humanecolorado.org/event/vaccine-clinic-barnum-recreation-center-3/
LOCATION:Barnum Recreation Center\, 360 Hooker Street\, Denver\, CO\, 80219\, United States
CATEGORIES:Vaccine Clinic
END:VEVENT
BEGIN:VEVENT
DTSTART;TZID=America/Denver:20250927T080000
DTEND;TZID=America/Denver:20250927T160000
DTSTAMP:20260422T113220
CREATED:20250808T152601Z
LAST-MODIFIED:20250808T152601Z
UID:44834-1758960000-1758988800@humanecolorado.org
SUMMARY:Vaccine Clinic: La Alma Recreation Center
DESCRIPTION:Outdoor ‘Drive-Thru’ Style Clinic \nPayment is due at the time of service; cash and credit cards are accepted. Donations are greatly appreciated. \nDogs and Cats (includes registration) \n\nRabies: $20\nMicrochips: $25\n\nCats Only \n\nFeline Distemper (FVRCP) $25\n\nDogs Only \n\nDistemper (DA2PP) only $25\nDistemper (DA2PP) + Leptospirosis combo $30\nLeptospirosis only $20\nBordetella $30\n\nRegister for next available Vaccine Clinic here. \nPlease verify the date of the appointment you are scheduling. Dates that are full will not be visible.
URL:https://humanecolorado.org/event/vaccine-clinic-la-alma-recreation-center-3/
LOCATION:La Alma Recreation Center\, 1325 W 11th Avenue\, Denver\, Colorado\, 80204
CATEGORIES:Vaccine Clinic
END:VEVENT
END:VCALENDAR