BEGIN:VCALENDAR
VERSION:2.0
PRODID:-//Humane Colorado - ECPv6.15.17.1//NONSGML v1.0//EN
CALSCALE:GREGORIAN
METHOD:PUBLISH
X-ORIGINAL-URL:https://humanecolorado.org
X-WR-CALDESC:Events for Humane Colorado
REFRESH-INTERVAL;VALUE=DURATION:PT1H
X-Robots-Tag:noindex
X-PUBLISHED-TTL:PT1H
BEGIN:VTIMEZONE
TZID:America/Denver
BEGIN:DAYLIGHT
TZOFFSETFROM:-0700
TZOFFSETTO:-0600
TZNAME:MDT
DTSTART:20240310T090000
END:DAYLIGHT
BEGIN:STANDARD
TZOFFSETFROM:-0600
TZOFFSETTO:-0700
TZNAME:MST
DTSTART:20241103T080000
END:STANDARD
BEGIN:DAYLIGHT
TZOFFSETFROM:-0700
TZOFFSETTO:-0600
TZNAME:MDT
DTSTART:20250309T090000
END:DAYLIGHT
BEGIN:STANDARD
TZOFFSETFROM:-0600
TZOFFSETTO:-0700
TZNAME:MST
DTSTART:20251102T080000
END:STANDARD
BEGIN:DAYLIGHT
TZOFFSETFROM:-0700
TZOFFSETTO:-0600
TZNAME:MDT
DTSTART:20260308T090000
END:DAYLIGHT
BEGIN:STANDARD
TZOFFSETFROM:-0600
TZOFFSETTO:-0700
TZNAME:MST
DTSTART:20261101T080000
END:STANDARD
END:VTIMEZONE
BEGIN:VEVENT
DTSTART;TZID=America/Denver:20250802T080000
DTEND;TZID=America/Denver:20250802T160000
DTSTAMP:20260422T130256
CREATED:20250730T142426Z
LAST-MODIFIED:20250730T142426Z
UID:42376-1754121600-1754150400@humanecolorado.org
SUMMARY:Vaccine Clinic: Carmody Recreation Center
DESCRIPTION:Outdoor ‘Drive-Thru’ Style Clinic \nPayment is due at the time of service; cash and credit cards are accepted. Donations are greatly appreciated. \nDogs and Cats (includes registration) \n\nRabies: $20\nMicrochips: $25\n\nCats Only \n\nFeline Distemper (FVRCP) $25\n\nDogs Only \n\nDistemper (DA2PP) only $25\nDistemper (DA2PP) + Leptospirosis combo $30\nLeptospirosis only $20\nBordetella $30\n\nRegister for next available Vaccine Clinic here. \nPlease verify the date of the appointment you are scheduling. Dates that are full will not be visible.
URL:https://humanecolorado.org/event/vaccine-clinic-carmody-recreation-center/
LOCATION:Carmody Rec Center\, 2200 S Kipling St\, Lakewood\, CO\, 80227\, United States
CATEGORIES:Vaccine Clinic
END:VEVENT
BEGIN:VEVENT
DTSTART;TZID=America/Denver:20250806T080000
DTEND;TZID=America/Denver:20250806T160000
DTSTAMP:20260422T130256
CREATED:20250715T163025Z
LAST-MODIFIED:20250717T144625Z
UID:38651-1754467200-1754496000@humanecolorado.org
SUMMARY:Vaccine Clinic: The Birdseed Collective
DESCRIPTION:Payment is due at the time of service; cash and credit cards are accepted. Donations are greatly appreciated. \nDogs and Cats (includes registration) \n\nRabies: $20\nMicrochips: $25\n\nCats Only \n\nFeline Distemper (FVRCP) $25\n\nDogs Only \n\nDistemper (DA2PP) only $25\nDistemper (DA2PP) + Leptospirosis combo $30\nLeptospirosis only $20\nBordetella $30\n\nRegister for next available Vaccine Clinic here. \nPlease verify the date of the appointment you are scheduling. Dates that are full will not be visible.
URL:https://humanecolorado.org/event/vaccine-clinic-the-birdseed-collective-2/
LOCATION:The Birdseed Collective\, 4496 Grant Street\, Denver\, CO\, 80216\, United States
CATEGORIES:Vaccine Clinic
END:VEVENT
BEGIN:VEVENT
DTSTART;TZID=America/Denver:20250809T080000
DTEND;TZID=America/Denver:20250809T160000
DTSTAMP:20260422T130256
CREATED:20250715T163129Z
LAST-MODIFIED:20250717T144636Z
UID:38653-1754726400-1754755200@humanecolorado.org
SUMMARY:Vaccine Clinic: Humane Colorado Leslie A Malone Center Transfer Garage
DESCRIPTION:Outdoor ‘Drive-Thru’ Style Clinic \nPayment is due at the time of service; cash and credit cards are accepted. Donations are greatly appreciated. \nDogs and Cats (includes registration) \n\nRabies: $20\nMicrochips: $25\n\nCats Only \n\nFeline Distemper (FVRCP) $25\n\nDogs Only \n\nDistemper (DA2PP) only $25\nDistemper (DA2PP) + Leptospirosis combo $30\nLeptospirosis only $20\nBordetella $30\n\nRegister for next available Vaccine Clinic here. \nPlease verify the date of the appointment you are scheduling. Dates that are full will not be visible.
URL:https://humanecolorado.org/event/vaccine-clinic-humane-colorado-leslie-a-malone-center-transfer-garage-2/
LOCATION:Leslie A. Malone Center\, 2080 S Quebec St\, Denver\, CO\, 80231\, United States
CATEGORIES:Vaccine Clinic
END:VEVENT
BEGIN:VEVENT
DTSTART;TZID=America/Denver:20250816T080000
DTEND;TZID=America/Denver:20250816T160000
DTSTAMP:20260422T130256
CREATED:20250710T144755Z
LAST-MODIFIED:20250717T144601Z
UID:37190-1755331200-1755360000@humanecolorado.org
SUMMARY:Vaccine Clinic: Community Ministry
DESCRIPTION:Outdoor ‘Drive-Thru’ Style Clinic \nPayment is due at the time of service; cash and credit cards are accepted. Donations are greatly appreciated. \nDogs and Cats (includes registration) \n\nRabies: $20\nMicrochips: $25\n\nCats Only \n\nFeline Distemper (FVRCP) $25\n\nDogs Only \n\nDistemper (DA2PP) only $25\nDistemper (DA2PP) + Leptospirosis combo $30\nLeptospirosis only $20\nBordetella $30\n\nRegister for next available Vaccine Clinic here. \nPlease verify the date of the appointment you are scheduling. Dates that are full will not be visible.
URL:https://humanecolorado.org/event/vaccine-clinic-community-ministry/
LOCATION:Community Ministry\, 1755 S Zuni St\, Denver\, CO\, 80223\, United States
CATEGORIES:Vaccine Clinic
END:VEVENT
BEGIN:VEVENT
DTSTART;TZID=America/Denver:20250820T080000
DTEND;TZID=America/Denver:20250820T160000
DTSTAMP:20260422T130256
CREATED:20250723T141451Z
LAST-MODIFIED:20250723T141451Z
UID:40494-1755676800-1755705600@humanecolorado.org
SUMMARY:Vaccine Clinic: Town Center at Aurora Mall
DESCRIPTION:Outdoor ‘Drive-Thru’ Style Clinic \nPayment is due at the time of service; cash and credit cards are accepted. Donations are greatly appreciated. \nDogs and Cats (includes registration) \n\nRabies: $20\nMicrochips: $25\n\nCats Only \n\nFeline Distemper (FVRCP) $25\n\nDogs Only \n\nDistemper (DA2PP) only $25\nDistemper (DA2PP) + Leptospirosis combo $30\nLeptospirosis only $20\nBordetella $30\n\nRegister for next available Vaccine Clinic here. \nPlease verify the date of the appointment you are scheduling. Dates that are full will not be visible.
URL:https://humanecolorado.org/event/vaccine-clinic-town-center-at-aurora-mall-5/
LOCATION:Town Center at Aurora Mall\, 14200 E Alameda Ave\, Aurora\, CO\, 80012\, United States
CATEGORIES:Vaccine Clinic
END:VEVENT
BEGIN:VEVENT
DTSTART;TZID=America/Denver:20250823T080000
DTEND;TZID=America/Denver:20250823T160000
DTSTAMP:20260422T130256
CREATED:20250723T141530Z
LAST-MODIFIED:20250723T141530Z
UID:40496-1755936000-1755964800@humanecolorado.org
SUMMARY:Vaccine Clinic: Humane Colorado Veterinary Hospital at CSU Spur
DESCRIPTION:Payment is due at the time of service; cash and credit cards are accepted. Donations are greatly appreciated. \nDogs and Cats (includes registration) \n\nRabies: $20\nMicrochips: $25\n\nCats Only \n\nFeline Distemper (FVRCP) $25\n\nDogs Only \n\nDistemper (DA2PP) only $25\nDistemper (DA2PP) + Leptospirosis combo $30\nLeptospirosis only $20\nBordetella $30\n\nRegister for next available Vaccine Clinic here. \nPlease verify the date of the appointment you are scheduling. Dates that are full will not be visible.
URL:https://humanecolorado.org/event/vaccine-clinic-humane-colorado-veterinary-hospital-at-csu-spur-6/
LOCATION:CSU Spur Vida Building\, 4817 National Western Dr\, Denver\, CO\, 80216\, United States
CATEGORIES:Vaccine Clinic
END:VEVENT
BEGIN:VEVENT
DTSTART;TZID=America/Denver:20250830T080000
DTEND;TZID=America/Denver:20250830T160000
DTSTAMP:20260422T130256
CREATED:20250731T162143Z
LAST-MODIFIED:20250801T192541Z
UID:42681-1756540800-1756569600@humanecolorado.org
SUMMARY:Vaccine Clinic: Barnum Recreation Center
DESCRIPTION:Outdoor ‘Drive-Thru’ Style Clinic \nPayment is due at the time of service; cash and credit cards are accepted. Donations are greatly appreciated. \nDogs and Cats (includes registration) \n\nRabies: $20\nMicrochips: $25\n\nCats Only \n\nFeline Distemper (FVRCP) $25\n\nDogs Only \n\nDistemper (DA2PP) only $25\nDistemper (DA2PP) + Leptospirosis combo $30\nLeptospirosis only $20\nBordetella $30\n\nRegister for next available Vaccine Clinic here. \nPlease verify the date of the appointment you are scheduling. Dates that are full will not be visible.
URL:https://humanecolorado.org/event/vaccine-clinic-barnum-recreation-center-2/
LOCATION:Barnum Recreation Center\, 360 Hooker Street\, Denver\, CO\, 80219\, United States
CATEGORIES:Vaccine Clinic
END:VEVENT
END:VCALENDAR