BEGIN:VCALENDAR
VERSION:2.0
PRODID:-//Humane Colorado - ECPv6.15.17.1//NONSGML v1.0//EN
CALSCALE:GREGORIAN
METHOD:PUBLISH
X-ORIGINAL-URL:https://humanecolorado.org
X-WR-CALDESC:Events for Humane Colorado
REFRESH-INTERVAL;VALUE=DURATION:PT1H
X-Robots-Tag:noindex
X-PUBLISHED-TTL:PT1H
BEGIN:VTIMEZONE
TZID:America/Denver
BEGIN:DAYLIGHT
TZOFFSETFROM:-0700
TZOFFSETTO:-0600
TZNAME:MDT
DTSTART:20240310T090000
END:DAYLIGHT
BEGIN:STANDARD
TZOFFSETFROM:-0600
TZOFFSETTO:-0700
TZNAME:MST
DTSTART:20241103T080000
END:STANDARD
BEGIN:DAYLIGHT
TZOFFSETFROM:-0700
TZOFFSETTO:-0600
TZNAME:MDT
DTSTART:20250309T090000
END:DAYLIGHT
BEGIN:STANDARD
TZOFFSETFROM:-0600
TZOFFSETTO:-0700
TZNAME:MST
DTSTART:20251102T080000
END:STANDARD
BEGIN:DAYLIGHT
TZOFFSETFROM:-0700
TZOFFSETTO:-0600
TZNAME:MDT
DTSTART:20260308T090000
END:DAYLIGHT
BEGIN:STANDARD
TZOFFSETFROM:-0600
TZOFFSETTO:-0700
TZNAME:MST
DTSTART:20261101T080000
END:STANDARD
END:VTIMEZONE
BEGIN:VEVENT
DTSTART;TZID=America/Denver:20250503T080000
DTEND;TZID=America/Denver:20250503T160000
DTSTAMP:20260422T174058
CREATED:20250407T175256Z
LAST-MODIFIED:20250423T145023Z
UID:17095-1746259200-1746288000@humanecolorado.org
SUMMARY:Vaccine Clinic: Leslie A Malone Center Transfer Garage
DESCRIPTION:Payment is due at the time of service; cash and credit cards are accepted. Donations are greatly appreciated. \nDogs and Cats (includes registration) \n\nRabies: $20\nMicrochips: $25\n\nCats Only \n\nFeline Distemper (FVRCP) $25\n\nDogs Only \n\nDistemper (DA2PP) only $25\nDistemper (DA2PP) + Leptospirosis combo $30\nLeptospirosis only $20\nBordetella $30\n\nRegister for this Vaccine Clinic here  \nPlease note we will not be accepting walk-ins at this clinic.
URL:https://humanecolorado.org/event/vaccine-clinic-leslie-a-malone-center-transfer-garage-2/
LOCATION:Leslie A. Malone Center\, 2080 S Quebec St\, Denver\, CO\, 80231\, United States
CATEGORIES:Vaccine Clinic
END:VEVENT
BEGIN:VEVENT
DTSTART;TZID=America/Denver:20250510T080000
DTEND;TZID=America/Denver:20250510T160000
DTSTAMP:20260422T174058
CREATED:20250410T140720Z
LAST-MODIFIED:20250410T141019Z
UID:18356-1746864000-1746892800@humanecolorado.org
SUMMARY:Vaccine Clinic Barnum Rec Center
DESCRIPTION:Outdoor ‘Drive-Thru’ Style Clinic \nPayment is due at the time of service; cash and credit cards are accepted. Donations are greatly appreciated. \nPlease note: we will be limiting walk-ins from 8am-10am and 12:30pm-2:30pm at this clinic \nDogs and Cats (includes registration) \n\nRabies: $20\nMicrochips: $25\n\nCats Only \n\nFeline Distemper (FVRCP) $25\n\nDogs Only \n\nDistemper (DA2PP) only $25\nDistemper (DA2PP) + Leptospirosis combo $30\nLeptospirosis only $20\nBordetella $30\n\nRegister for this Vaccine Clinic here.
URL:https://humanecolorado.org/event/vaccine-clinic-barnum-rec-center-2/
LOCATION:Barnum Recreation Center\, 360 Hooker Street\, Denver\, CO\, 80219\, United States
CATEGORIES:Vaccine Clinic
END:VEVENT
BEGIN:VEVENT
DTSTART;TZID=America/Denver:20250514T080000
DTEND;TZID=America/Denver:20250514T160000
DTSTAMP:20260422T174058
CREATED:20250417T141543Z
LAST-MODIFIED:20250417T141543Z
UID:19881-1747209600-1747238400@humanecolorado.org
SUMMARY:Vaccine Clinic: The Birdseed Collective
DESCRIPTION:Payment is due at the time of service; cash and credit cards are accepted. Donations are greatly appreciated. \nDogs and Cats (includes registration) \n\nRabies: $20\nMicrochips: $25\n\nCats Only \n\nFeline Distemper (FVRCP) $25\n\nDogs Only \n\nDistemper (DA2PP) only $25\nDistemper (DA2PP) + Leptospirosis combo $30\nLeptospirosis only $20\nBordetella $30\n\nRegister for this Vaccine Clinic here
URL:https://humanecolorado.org/event/vaccine-clinic-the-birdseed-collective/
LOCATION:The Birdseed Collective\, 4496 Grant Street\, Denver\, CO\, 80216\, United States
CATEGORIES:Vaccine Clinic
END:VEVENT
BEGIN:VEVENT
DTSTART;TZID=America/Denver:20250517T080000
DTEND;TZID=America/Denver:20250517T160000
DTSTAMP:20260422T174058
CREATED:20250512T151327Z
LAST-MODIFIED:20250512T151327Z
UID:24373-1747468800-1747497600@humanecolorado.org
SUMMARY:Vaccine Clinic: Town Center at Aurora Mall
DESCRIPTION:Outdoor ‘Drive-Thru’ Style Clinic \nPayment is due at the time of service; cash and credit cards are accepted. Donations are greatly appreciated. \nDogs and Cats (includes registration) \n\nRabies: $20\nMicrochips: $25\n\nCats Only \n\nFeline Distemper (FVRCP) $25\n\nDogs Only \n\nDistemper (DA2PP) only $25\nDistemper (DA2PP) + Leptospirosis combo $30\nLeptospirosis only $20\nBordetella $30\n\nRegister for this Vaccine Clinic here. 
URL:https://humanecolorado.org/event/vaccine-clinic-town-center-at-aurora-mall-3/
LOCATION:Town Center at Aurora Mall\, 14200 E Alameda Ave\, Aurora\, CO\, 80012\, United States
CATEGORIES:Vaccine Clinic
END:VEVENT
BEGIN:VEVENT
DTSTART;TZID=America/Denver:20250524T080000
DTEND;TZID=America/Denver:20250524T160000
DTSTAMP:20260422T174058
CREATED:20250417T141323Z
LAST-MODIFIED:20250417T141351Z
UID:19877-1748073600-1748102400@humanecolorado.org
SUMMARY:Vaccine Clinic: La Alma Recreation Center
DESCRIPTION:Payment is due at the time of service; cash and credit cards are accepted. Donations are greatly appreciated. \nDogs and Cats (includes registration) \n\nRabies: $20\nMicrochips: $25\n\nCats Only \n\nFeline Distemper (FVRCP) $25\n\nDogs Only \n\nDistemper (DA2PP) only $25\nDistemper (DA2PP) + Leptospirosis combo $30\nLeptospirosis only $20\nBordetella $30\n\nRegister for this Vaccine Clinic here
URL:https://humanecolorado.org/event/vaccine-clinic-la-alma-recreation-center-2/
LOCATION:La Alma Recreation Center\, 1325 W 11th Avenue\, Denver\, Colorado\, 80204
CATEGORIES:Vaccine Clinic
END:VEVENT
BEGIN:VEVENT
DTSTART;TZID=America/Denver:20250528T090000
DTEND;TZID=America/Denver:20250528T150000
DTSTAMP:20260422T174058
CREATED:20250515T144613Z
LAST-MODIFIED:20250515T144613Z
UID:25028-1748422800-1748444400@humanecolorado.org
SUMMARY:Vaccine Clinic: Humane Colorado Veterinary Hospital at CSU Spur
DESCRIPTION:Payment is due at the time of service; cash and credit cards are accepted. Donations are greatly appreciated. \nDogs and Cats (includes registration) \n\nRabies: $20\nMicrochips: $25\n\nCats Only \n\nFeline Distemper (FVRCP) $25\n\nDogs Only \n\nDistemper (DA2PP) only $25\nDistemper (DA2PP) + Leptospirosis combo $30\nLeptospirosis only $20\nBordetella $30\n\nRegister for this Vaccine Clinic here 
URL:https://humanecolorado.org/event/vaccine-clinic-humane-colorado-veterinary-hospital-at-csu-spur/
LOCATION:CSU Spur Vida Building\, 4817 National Western Dr\, Denver\, CO\, 80216\, United States
CATEGORIES:Vaccine Clinic
END:VEVENT
BEGIN:VEVENT
DTSTART;TZID=America/Denver:20250531T080000
DTEND;TZID=America/Denver:20250531T160000
DTSTAMP:20260422T174058
CREATED:20250410T140817Z
LAST-MODIFIED:20250512T150832Z
UID:18358-1748678400-1748707200@humanecolorado.org
SUMMARY:Vaccine Clinic: Town Center at Aurora Mall
DESCRIPTION:Outdoor ‘Drive-Thru’ Style Clinic \nPayment is due at the time of service; cash and credit cards are accepted. Donations are greatly appreciated. \nDogs and Cats (includes registration) \n\nRabies: $20\nMicrochips: $25\n\nCats Only \n\nFeline Distemper (FVRCP) $25\n\nDogs Only \n\nDistemper (DA2PP) only $25\nDistemper (DA2PP) + Leptospirosis combo $30\nLeptospirosis only $20\nBordetella $30\n\nRegister for this Vaccine Clinic here. \nPlease note that walk-ins will not be accepted during the first hour of the clinic or from 12:30-1:30.
URL:https://humanecolorado.org/event/vaccine-clinic-town-center-at-aurora-mall-2/
LOCATION:Town Center at Aurora Mall\, 14200 E Alameda Ave\, Aurora\, CO\, 80012\, United States
CATEGORIES:Vaccine Clinic
END:VEVENT
END:VCALENDAR