BEGIN:VCALENDAR
VERSION:2.0
PRODID:-//Humane Colorado - ECPv6.15.17.1//NONSGML v1.0//EN
CALSCALE:GREGORIAN
METHOD:PUBLISH
X-WR-CALNAME:Humane Colorado
X-ORIGINAL-URL:https://humanecolorado.org
X-WR-CALDESC:Events for Humane Colorado
REFRESH-INTERVAL;VALUE=DURATION:PT1H
X-Robots-Tag:noindex
X-PUBLISHED-TTL:PT1H
BEGIN:VTIMEZONE
TZID:America/Denver
BEGIN:DAYLIGHT
TZOFFSETFROM:-0700
TZOFFSETTO:-0600
TZNAME:MDT
DTSTART:20240310T090000
END:DAYLIGHT
BEGIN:STANDARD
TZOFFSETFROM:-0600
TZOFFSETTO:-0700
TZNAME:MST
DTSTART:20241103T080000
END:STANDARD
BEGIN:DAYLIGHT
TZOFFSETFROM:-0700
TZOFFSETTO:-0600
TZNAME:MDT
DTSTART:20250309T090000
END:DAYLIGHT
BEGIN:STANDARD
TZOFFSETFROM:-0600
TZOFFSETTO:-0700
TZNAME:MST
DTSTART:20251102T080000
END:STANDARD
BEGIN:DAYLIGHT
TZOFFSETFROM:-0700
TZOFFSETTO:-0600
TZNAME:MDT
DTSTART:20260308T090000
END:DAYLIGHT
BEGIN:STANDARD
TZOFFSETFROM:-0600
TZOFFSETTO:-0700
TZNAME:MST
DTSTART:20261101T080000
END:STANDARD
END:VTIMEZONE
BEGIN:VEVENT
DTSTART;TZID=America/Denver:20250405T090000
DTEND;TZID=America/Denver:20250405T150000
DTSTAMP:20260422T191608
CREATED:20250312T164243Z
LAST-MODIFIED:20250331T170911Z
UID:11886-1743843600-1743865200@humanecolorado.org
SUMMARY:Vaccine Clinic: Leslie A Malone Center Transfer Garage
DESCRIPTION:Payment is due at the time of service; cash and credit cards are accepted. Donations are greatly appreciated. \nDogs and Cats (includes registration) \n\nRabies: $20\nMicrochips: $25\n\nCats Only \n\nFeline Distemper (FVRCP) $25\n\nDogs Only \n\nDistemper (DA2PP) only $25\nDistemper (DA2PP) + Leptospirosis combo $30\nLeptospirosis only $20\nBordetella $30\n\nRegister for this Vaccine Clinic here
URL:https://humanecolorado.org/event/vaccine-clinic-leslie-a-malone-center-transfer-garage/
LOCATION:Leslie A. Malone Center\, 2080 S Quebec St\, Denver\, CO\, 80231\, United States
CATEGORIES:Vaccine Clinic
END:VEVENT
BEGIN:VEVENT
DTSTART;TZID=America/Denver:20250412T080000
DTEND;TZID=America/Denver:20250412T160000
DTSTAMP:20260422T191608
CREATED:20250325T185724Z
LAST-MODIFIED:20250403T163830Z
UID:14787-1744444800-1744473600@humanecolorado.org
SUMMARY:Vaccine Clinic: Town Center at Aurora Mall
DESCRIPTION:Outdoor ‘Drive-Thru’ Style Clinic \nPayment is due at the time of service; cash and credit cards are accepted. Donations are greatly appreciated. \nDogs and Cats (includes registration) \n\nRabies: $20\nMicrochips: $25\n\nCats Only \n\nFeline Distemper (FVRCP) $25\n\nDogs Only \n\nDistemper (DA2PP) only $25\nDistemper (DA2PP) + Leptospirosis combo $30\nLeptospirosis only $20\nBordetella $30\n\nRegister for this Vaccine Clinic here. 
URL:https://humanecolorado.org/event/vaccine-clinic-town-center-at-aurora-mall/
LOCATION:Town Center at Aurora Mall\, 14200 E Alameda Ave\, Aurora\, CO\, 80012\, United States
CATEGORIES:Vaccine Clinic
END:VEVENT
BEGIN:VEVENT
DTSTART;TZID=America/Denver:20250419T080000
DTEND;TZID=America/Denver:20250419T160000
DTSTAMP:20260422T191608
CREATED:20250325T185914Z
LAST-MODIFIED:20250331T171008Z
UID:14790-1745049600-1745078400@humanecolorado.org
SUMMARY:Vaccine Clinic Barnum Rec Center
DESCRIPTION:Payment is due at the time of service; cash and credit cards are accepted. Donations are greatly appreciated. \nPlease note: we will be limiting walk-ins from  8am-10am and 12:30pm-2:30pm at this clinic \nDogs and Cats (includes registration) \n\nRabies: $20\nMicrochips: $25\n\nCats Only \n\nFeline Distemper (FVRCP) $25\n\nDogs Only \n\nDistemper (DA2PP) only $25\nDistemper (DA2PP) + Leptospirosis combo $30\nLeptospirosis only $20\nBordetella $30\n\nRegister for this Vaccine Clinic here. 
URL:https://humanecolorado.org/event/vaccine-clinic-barnum-rec-center/
LOCATION:Barnum Recreation Center\, 360 Hooker Street\, Denver\, CO\, 80219\, United States
CATEGORIES:Vaccine Clinic
END:VEVENT
BEGIN:VEVENT
DTSTART;TZID=America/Denver:20250423T080000
DTEND;TZID=America/Denver:20250423T160000
DTSTAMP:20260422T191608
CREATED:20250312T153102Z
LAST-MODIFIED:20250331T171030Z
UID:11803-1745395200-1745424000@humanecolorado.org
SUMMARY:Vaccine Clinic: Community College of Denver (Lowry)
DESCRIPTION:Payment is due at the time of service; cash and credit cards are accepted. Donations are greatly appreciated. \nDogs and Cats (includes registration) \n\nRabies: $20\nMicrochips: $25\n\nCats Only \n\nFeline Distemper (FVRCP) $25\n\nDogs Only \n\nDistemper (DA2PP) only $25\nDistemper (DA2PP) + Leptospirosis combo $30\nLeptospirosis only $20\nBordetella $30\n\nRegister for this Vaccine Clinic here 
URL:https://humanecolorado.org/event/vaccine-clinic-community-college-of-denver-lowry/
LOCATION:Community College of Denver (Lowry) – Health & Science Building\, 1070 Alton Way\, Denver\, CO\, 80230\, United States
CATEGORIES:Vaccine Clinic
END:VEVENT
BEGIN:VEVENT
DTSTART;TZID=America/Denver:20250426T080000
DTEND;TZID=America/Denver:20250426T160000
DTSTAMP:20260422T191608
CREATED:20250325T190011Z
LAST-MODIFIED:20250331T170823Z
UID:14792-1745654400-1745683200@humanecolorado.org
SUMMARY:Vaccine Clinic: La Alma Recreation Center
DESCRIPTION:Payment is due at the time of service; cash and credit cards are accepted. Donations are greatly appreciated. \nDogs and Cats (includes registration) \n\nRabies: $20\nMicrochips: $25\n\nCats Only \n\nFeline Distemper (FVRCP) $25\n\nDogs Only \n\nDistemper (DA2PP) only $25\nDistemper (DA2PP) + Leptospirosis combo $30\nLeptospirosis only $20\nBordetella $30\n\nRegister for this Vaccine Clinic here 
URL:https://humanecolorado.org/event/vaccine-clinic-la-alma-recreation-center/
LOCATION:La Alma Recreation Center\, 1325 W 11th Avenue\, Denver\, Colorado\, 80204
CATEGORIES:Vaccine Clinic
END:VEVENT
END:VCALENDAR