BEGIN:VCALENDAR
VERSION:2.0
PRODID:-//Humane Colorado - ECPv6.15.17.1//NONSGML v1.0//EN
CALSCALE:GREGORIAN
METHOD:PUBLISH
X-WR-CALNAME:Humane Colorado
X-ORIGINAL-URL:https://humanecolorado.org
X-WR-CALDESC:Events for Humane Colorado
REFRESH-INTERVAL;VALUE=DURATION:PT1H
X-Robots-Tag:noindex
X-PUBLISHED-TTL:PT1H
BEGIN:VTIMEZONE
TZID:America/Denver
BEGIN:DAYLIGHT
TZOFFSETFROM:-0700
TZOFFSETTO:-0600
TZNAME:MDT
DTSTART:20240310T090000
END:DAYLIGHT
BEGIN:STANDARD
TZOFFSETFROM:-0600
TZOFFSETTO:-0700
TZNAME:MST
DTSTART:20241103T080000
END:STANDARD
BEGIN:DAYLIGHT
TZOFFSETFROM:-0700
TZOFFSETTO:-0600
TZNAME:MDT
DTSTART:20250309T090000
END:DAYLIGHT
BEGIN:STANDARD
TZOFFSETFROM:-0600
TZOFFSETTO:-0700
TZNAME:MST
DTSTART:20251102T080000
END:STANDARD
BEGIN:DAYLIGHT
TZOFFSETFROM:-0700
TZOFFSETTO:-0600
TZNAME:MDT
DTSTART:20260308T090000
END:DAYLIGHT
BEGIN:STANDARD
TZOFFSETFROM:-0600
TZOFFSETTO:-0700
TZNAME:MST
DTSTART:20261101T080000
END:STANDARD
END:VTIMEZONE
BEGIN:VEVENT
DTSTART;TZID=America/Denver:20250308T080000
DTEND;TZID=America/Denver:20250308T160000
DTSTAMP:20260422T205157
CREATED:20250302T153529Z
LAST-MODIFIED:20250302T154742Z
UID:5578-1741420800-1741449600@humanecolorado.org
SUMMARY:Vaccine Clinic (3/8) Barnum Rec Center
DESCRIPTION:Payment is due at the time of service; cash\, check\, and credit cards are accepted. Donations are greatly appreciated. \nDogs and Cats (includes registration) \n\nRabies: $20\nMicrochips: $25\n\nCats Only \n\nFeline Distemper (FVRCP) $25\n\nDogs Only \n\nDistemper (DA2PP) only $25\nDistemper (DA2PP) + Leptospirosis combo $30\nLeptospirosis only $20\nBordetella $30\n\nRegister for this Vaccine Clinic here.
URL:https://humanecolorado.org/event/vaccine-clinic-3-8-barnum-rec-center/
LOCATION:Barnum Recreation Center\, 360 Hooker Street\, Denver\, CO\, 80219\, United States
CATEGORIES:Vaccine Clinic
END:VEVENT
BEGIN:VEVENT
DTSTART;TZID=America/Denver:20250312T080000
DTEND;TZID=America/Denver:20250312T160000
DTSTAMP:20260422T205157
CREATED:20250302T162710Z
LAST-MODIFIED:20250410T140940Z
UID:5604-1741766400-1741795200@humanecolorado.org
SUMMARY:Vaccine Clinic (03/12) La Alma Recreation Center
DESCRIPTION:Payment is due at the time of service; cash\, check\, and credit cards are accepted. Donations are greatly appreciated. \nDogs and Cats (includes registration) \n\nRabies: $20\nMicrochips: $25\n\nCats Only \n\nFeline Distemper (FVRCP) $25\n\nDogs Only \n\nDistemper (DA2PP) only $25\nDistemper (DA2PP) + Leptospirosis combo $30\nLeptospirosis only $20\nBordetella $30\n\nRegister for this Vaccine Clinic here.
URL:https://humanecolorado.org/event/vaccine-clinic-03-12-la-alma-recreation-center/
LOCATION:La Alma Recreation Center\, 1325 W 11th Avenue\, Denver\, Colorado\, 80204
CATEGORIES:Vaccine Clinic
END:VEVENT
BEGIN:VEVENT
DTSTART;TZID=America/Denver:20250312T080000
DTEND;TZID=America/Denver:20250312T160000
DTSTAMP:20260422T205157
CREATED:20250312T173044Z
LAST-MODIFIED:20250410T140935Z
UID:11922-1741766400-1741795200@humanecolorado.org
SUMMARY:Vaccine Clinic: Leslie A. Malone Center
DESCRIPTION:Payment is due at the time of service; cash\, check\, and credit cards are accepted. Donations are greatly appreciated. \nDogs and Cats (includes registration) \n\nRabies: $20\nMicrochips: $25\n\nCats Only \n\nFeline Distemper (FVRCP) $25\n\nDogs Only \n\nDistemper (DA2PP) only $25\nDistemper (DA2PP) + Leptospirosis combo $30\nLeptospirosis only $20\nBordetella $30\n\nRegister for this Vaccine Clinic here 
URL:https://humanecolorado.org/event/vaccine-clinic-leslie-a-malone-center/
LOCATION:Leslie A. Malone Center\, 2080 S Quebec St\, Denver\, CO\, 80231\, United States
CATEGORIES:Vaccine Clinic
END:VEVENT
BEGIN:VEVENT
DTSTART;TZID=America/Denver:20250319T080000
DTEND;TZID=America/Denver:20250319T160000
DTSTAMP:20260422T205157
CREATED:20250310T201524Z
LAST-MODIFIED:20250310T220256Z
UID:11049-1742371200-1742400000@humanecolorado.org
SUMMARY:Vaccine Clinic: Denver Animal Shelter
DESCRIPTION:Payment is due at the time of service; cash\, check\, and credit cards are accepted. Donations are greatly appreciated. \nDogs and Cats (includes registration) \n\nRabies: $20\nMicrochips: $25\n\nCats Only \n\nFeline Distemper (FVRCP) $25\n\nDogs Only \n\nDistemper (DA2PP) only $25\nDistemper (DA2PP) + Leptospirosis combo $30\nLeptospirosis only $20\nBordetella $30\n\nRegister for this Vaccine Clinic here
URL:https://humanecolorado.org/event/vaccine-clinic-2/
LOCATION:Denver Animal Shelter\, 1241 W Bayaud Ave\, Denver\, CO\, 80223\, United States
CATEGORIES:Vaccine Clinic
END:VEVENT
BEGIN:VEVENT
DTSTART;TZID=America/Denver:20250322T090000
DTEND;TZID=America/Denver:20250322T133000
DTSTAMP:20260422T205157
CREATED:20250302T162833Z
LAST-MODIFIED:20250323T150601Z
UID:5602-1742634000-1742650200@humanecolorado.org
SUMMARY:Vaccine Clinic (3/22) Barnum East Park Baseball Field Parking Lot
DESCRIPTION:Payment is due at the time of service; cash\, check\, and credit cards are accepted. Donations are greatly appreciated. \nDogs and Cats (includes registration) \n\nRabies: $20\nMicrochips: $25\n\nCats Only \n\nFeline Distemper (FVRCP) $25\n\nDogs Only \n\nDistemper (DA2PP) only $25\nDistemper (DA2PP) + Leptospirosis combo $30\nLeptospirosis only $20\nBordetella $30\n\nRegister for this Vaccine Clinic here.
URL:https://humanecolorado.org/event/vaccine-clinic-3-22-barnum-east-park-baseball-field-parking-lot/
LOCATION:Barnum Recreation Center\, 360 Hooker Street\, Denver\, CO\, 80219\, United States
CATEGORIES:Vaccine Clinic
END:VEVENT
BEGIN:VEVENT
DTSTART;TZID=America/Denver:20250329T080000
DTEND;TZID=America/Denver:20250329T160000
DTSTAMP:20260422T205157
CREATED:20250310T201356Z
LAST-MODIFIED:20250310T220220Z
UID:11045-1743235200-1743264000@humanecolorado.org
SUMMARY:Vaccine Clinic: CSU Spur Vida Building
DESCRIPTION:Payment is due at the time of service; cash\, check\, and credit cards are accepted. Donations are greatly appreciated. \nDogs and Cats (includes registration) \n\nRabies: $20\nMicrochips: $25\n\nCats Only \n\nFeline Distemper (FVRCP) $25\n\nDogs Only \n\nDistemper (DA2PP) only $25\nDistemper (DA2PP) + Leptospirosis combo $30\nLeptospirosis only $20\nBordetella $30\n\nRegister for this Vaccine Clinic here
URL:https://humanecolorado.org/event/vaccine-clinic/
LOCATION:CSU Spur Vida Building\, 4817 National Western Dr\, Denver\, CO\, 80216\, United States
CATEGORIES:Vaccine Clinic
END:VEVENT
END:VCALENDAR